BEGIN:VCALENDAR
VERSION:2.0
PRODID:-//Web Done Well//Calendar Export//EN
CALSCALE:GREGORIAN
BEGIN:VEVENT
UID:event-1219@www.cityclubgreenville.com
DTSTAMP:20260425T102124Z
DTSTART:20260424T213000Z
DTEND:20260424T233000Z
SUMMARY:Botanical Cocktail Class
DESCRIPTION:Celebrate the flavors of spring with a hands-on cocktail experience designed for curious cocktail lovers and aspiring home bartenders. Learn how herbs\, florals\, and aromatic ingredients shape the character of...
LOCATION:One Liberty Square 17th Floor 55 Beattie Place Greenville\, SC 29601
END:VEVENT
END:VCALENDAR
